BEGIN:VCALENDAR
VERSION:2.0
PRODID:spatie/icalendar-generator
DESCRIPTION:Events from Dignity Alliance
X-WR-CALDESC:Events from Dignity Alliance
REFRESH-INTERVAL;VALUE=DURATION:PT1440M
X-PUBLISHED-TTL:PT1440M
BEGIN:VTIMEZONE
TZID:America/New_York
BEGIN:DAYLIGHT
DTSTART:20250309T020000Z
TZOFFSETFROM:-0500
TZOFFSETTO:-0400
END:DAYLIGHT
BEGIN:STANDARD
DTSTART:20251102T020000Z
TZOFFSETFROM:-0400
TZOFFSETTO:-0500
END:STANDARD
END:VTIMEZONE
BEGIN:VTIMEZONE
TZID:UTC
BEGIN:STANDARD
DTSTART:20250726T200427Z
TZOFFSETFROM:+0000
TZOFFSETTO:+0000
END:STANDARD
END:VTIMEZONE
BEGIN:VEVENT
UID:469-443
DTSTAMP:20260422T200427Z
SUMMARY:Your Voice\, Your Vote—Accessible Polling Places and Election Sup
 porting Technology
LOCATION:
ORGANIZER;CN=admin:MAILTO:admin@dignityalliancema.org
DTSTART;TZID=America/New_York:20250807T143000
DTEND;TZID=America/New_York:20250807T160000
X-ALT-DESC;FMTTYPE=TEXT/HTML:U.S. Access Board Thursday\, August 7\, 2025\,
  2:30 to 4:00 p.m. Join the U.S. Access Board and the U.S. Elections Assis
 tance Commission (EAC) for a webinar on voting accessibility. The Help Ame
 rica Vote Act (HAVA) created the U.S. Elections Assistance Commission and 
 the right for voters with disabilities to mark\, cast and verify their bal
 lots&amp;hellip\;
CATEGORIES:General
URL;VALUE=URI:https://dignityalliancema.org/mc-events/your-voice-your-vote-
 accessible-polling-places-and-election-supporting-technology/
METHOD:PUBLISH
END:VEVENT
END:VCALENDAR