BEGIN:VCALENDAR
VERSION:2.0
PRODID:spatie/icalendar-generator
DESCRIPTION:Events from Dignity Alliance
X-WR-CALDESC:Events from Dignity Alliance
REFRESH-INTERVAL;VALUE=DURATION:PT1440M
X-PUBLISHED-TTL:PT1440M
BEGIN:VTIMEZONE
TZID:America/New_York
BEGIN:STANDARD
DTSTART:20231105T020000Z
TZOFFSETFROM:-0400
TZOFFSETTO:-0500
END:STANDARD
BEGIN:DAYLIGHT
DTSTART:20240310T020000Z
TZOFFSETFROM:-0500
TZOFFSETTO:-0400
END:DAYLIGHT
END:VTIMEZONE
BEGIN:VTIMEZONE
TZID:UTC
BEGIN:STANDARD
DTSTART:20250725T085856Z
TZOFFSETFROM:+0000
TZOFFSETTO:+0000
END:STANDARD
END:VTIMEZONE
BEGIN:VEVENT
UID:190-172
DTSTAMP:20260421T085856Z
SUMMARY:Webinar - Hidden Profits in the Nursing Home Industry
LOCATION:
ORGANIZER;CN=admin:MAILTO:admin@dignityalliancema.org
DTSTART;TZID=America/New_York:20240410T140000
DTEND;TZID=America/New_York:20240410T150000
X-ALT-DESC;FMTTYPE=TEXT/HTML:Consumer Voice Wednesday\, April 10\, 2024\, 2
 :00 to 3:00 p.m. Consumer Voice has long been a proponent of increased tra
 nsparency and accountability in nursing home finances. Data and research s
 how that roughly 75% of nursing homes use related party transactions. Thes
 e common transactions permit some nursing home owners to hide how profitab
 le their facilities really&amp;hellip\;
CATEGORIES:General
URL;VALUE=URI:https://dignityalliancema.org/mc-events/webinar-hidden-profit
 s-in-the-nursing-home-industry/
METHOD:PUBLISH
END:VEVENT
END:VCALENDAR