BEGIN:VCALENDAR
VERSION:2.0
PRODID:spatie/icalendar-generator
DESCRIPTION:Events from Dignity Alliance
X-WR-CALDESC:Events from Dignity Alliance
REFRESH-INTERVAL;VALUE=DURATION:PT1440M
X-PUBLISHED-TTL:PT1440M
BEGIN:VTIMEZONE
TZID:America/New_York
BEGIN:STANDARD
DTSTART:20241103T020000Z
TZOFFSETFROM:-0400
TZOFFSETTO:-0500
END:STANDARD
BEGIN:DAYLIGHT
DTSTART:20250309T020000Z
TZOFFSETFROM:-0500
TZOFFSETTO:-0400
END:DAYLIGHT
END:VTIMEZONE
BEGIN:VTIMEZONE
TZID:UTC
BEGIN:STANDARD
DTSTART:20250723T123736Z
TZOFFSETFROM:+0000
TZOFFSETTO:+0000
END:STANDARD
END:VTIMEZONE
BEGIN:VEVENT
UID:365-342
DTSTAMP:20260419T123736Z
SUMMARY:Update on Social Security Overpayment Policies
LOCATION:
ORGANIZER;CN=admin:MAILTO:admin@dignityalliancema.org
DTSTART;TZID=America/New_York:20250109T140000
DTEND;TZID=America/New_York:20250109T151500
X-ALT-DESC;FMTTYPE=TEXT/HTML:National Center on Law and Elder Rights Thursd
 ay\, January 9\, 2025\, 2:00 to 3:15 p.m. An overpayment of Social Securit
 y (Title II) or Supplemental Security Income (SSI\, or Title XVI) benefits
  occurs whenever an individual receives more money for a month than the am
 ount that should have been paid by the Social Security Administration (SSA
 ).&amp;hellip\;
CATEGORIES:General
URL;VALUE=URI:https://dignityalliancema.org/mc-events/update-on-social-secu
 rity-overpayment-policies/
METHOD:PUBLISH
END:VEVENT
END:VCALENDAR