BEGIN:VCALENDAR
VERSION:2.0
PRODID:spatie/icalendar-generator
DESCRIPTION:Events from Dignity Alliance
X-WR-CALDESC:Events from Dignity Alliance
REFRESH-INTERVAL;VALUE=DURATION:PT1440M
X-PUBLISHED-TTL:PT1440M
BEGIN:VTIMEZONE
TZID:America/New_York
BEGIN:STANDARD
DTSTART:20241103T020000Z
TZOFFSETFROM:-0400
TZOFFSETTO:-0500
END:STANDARD
BEGIN:DAYLIGHT
DTSTART:20250309T020000Z
TZOFFSETFROM:-0500
TZOFFSETTO:-0400
END:DAYLIGHT
END:VTIMEZONE
BEGIN:VTIMEZONE
TZID:UTC
BEGIN:STANDARD
DTSTART:20250725T085951Z
TZOFFSETFROM:+0000
TZOFFSETTO:+0000
END:STANDARD
END:VTIMEZONE
BEGIN:VEVENT
UID:395-371
DTSTAMP:20260421T085951Z
SUMMARY:Shared Stewardship: Spirit of Hope
LOCATION:
ORGANIZER;CN=admin:MAILTO:admin@dignityalliancema.org
DTSTART;TZID=America/New_York:20250219T150000
DTEND;TZID=America/New_York:20250219T160000
X-ALT-DESC;FMTTYPE=TEXT/HTML:Rippel Foundation ReThink Health Toolbox Webin
 ar Wednesday\, February 19\, 2025\, 3:00 p.m. What does shared stewardship
  look like in practice? How can changemakers—at any level— apply stewa
 rdship principles to their everyday work and in their communities? Join a 
 ReThink Health Toolbox Webinar on Wednesday\, February 19th from 3:00-4:00
  PM ET for a fireside chat featuring&amp;hellip\;
CATEGORIES:General
URL;VALUE=URI:https://dignityalliancema.org/mc-events/shared-stewardship-sp
 irit-of-hope/
METHOD:PUBLISH
END:VEVENT
END:VCALENDAR