BEGIN:VCALENDAR
VERSION:2.0
PRODID:spatie/icalendar-generator
DESCRIPTION:Events from Dignity Alliance
X-WR-CALDESC:Events from Dignity Alliance
REFRESH-INTERVAL;VALUE=DURATION:PT1440M
X-PUBLISHED-TTL:PT1440M
BEGIN:VTIMEZONE
TZID:America/New_York
BEGIN:STANDARD
DTSTART:20251102T020000Z
TZOFFSETFROM:-0400
TZOFFSETTO:-0500
END:STANDARD
BEGIN:DAYLIGHT
DTSTART:20260308T020000Z
TZOFFSETFROM:-0500
TZOFFSETTO:-0400
END:DAYLIGHT
END:VTIMEZONE
BEGIN:VTIMEZONE
TZID:UTC
BEGIN:STANDARD
DTSTART:20250725T085654Z
TZOFFSETFROM:+0000
TZOFFSETTO:+0000
END:STANDARD
END:VTIMEZONE
BEGIN:VEVENT
UID:534-506
DTSTAMP:20260421T085654Z
SUMMARY:Overpayments\, In-Kind Support\, and Operational Impacts - How Curr
 ent SSA Policies Could Affect Your Clients
LOCATION:
ORGANIZER;CN=admin:MAILTO:admin@dignityalliancema.org
DTSTART;TZID=America/New_York:20251210T110000
DTEND;TZID=America/New_York:20251210T120000
X-ALT-DESC;FMTTYPE=TEXT/HTML:Justice in Aging Wednesday\, December 10\, 202
 5\, 11:00 a.m. to 12:00 p.m. As SSI and Social Security rules have been ch
 anging in areas such as overpayments\, better understanding current polici
 es and proposals will be helpful in your advocacy. This 1-hour webinar\, O
 verpayments\, In-Kind Support\, and Operational Impacts - How Current SSA 
 Policies Could Affect Your&amp;hellip\;
CATEGORIES:General
URL;VALUE=URI:https://dignityalliancema.org/mc-events/overpayments-in-kind-
 support-and-operational-impacts-how-current-ssa-policies-could-affect-your
 -clients/
METHOD:PUBLISH
END:VEVENT
END:VCALENDAR