BEGIN:VCALENDAR
VERSION:2.0
PRODID:spatie/icalendar-generator
DESCRIPTION:Events from Dignity Alliance
X-WR-CALDESC:Events from Dignity Alliance
REFRESH-INTERVAL;VALUE=DURATION:PT1440M
X-PUBLISHED-TTL:PT1440M
BEGIN:VTIMEZONE
TZID:America/New_York
BEGIN:STANDARD
DTSTART:20241103T020000Z
TZOFFSETFROM:-0400
TZOFFSETTO:-0500
END:STANDARD
BEGIN:DAYLIGHT
DTSTART:20250309T020000Z
TZOFFSETFROM:-0500
TZOFFSETTO:-0400
END:DAYLIGHT
END:VTIMEZONE
BEGIN:VTIMEZONE
TZID:UTC
BEGIN:STANDARD
DTSTART:20250725T090332Z
TZOFFSETFROM:+0000
TZOFFSETTO:+0000
END:STANDARD
END:VTIMEZONE
BEGIN:VEVENT
UID:413-389
DTSTAMP:20260421T090332Z
SUMMARY:OPEN DOORS 5th Annual Nursing Home Lives Matter Vigil
LOCATION:
ORGANIZER;CN=admin:MAILTO:admin@dignityalliancema.org
DTSTART;TZID=America/New_York:20250313T180000
DTEND;TZID=America/New_York:20250313T190000
X-ALT-DESC;FMTTYPE=TEXT/HTML:Join others in a shared remembrance and collec
 tive strength\, honoring lives lost during the pandemic at this 5th Annual
  Nursing Home Lives Matter Vigil Online Event Mar 13\, 2025 06:00 PM Regis
 ter for online event &amp;nbsp\;
CATEGORIES:General
URL;VALUE=URI:https://dignityalliancema.org/mc-events/open-doors-5th-annual
 -nursing-home-lives-matter-vigil/
METHOD:PUBLISH
END:VEVENT
END:VCALENDAR