BEGIN:VCALENDAR
VERSION:2.0
PRODID:spatie/icalendar-generator
DESCRIPTION:Events from Dignity Alliance
X-WR-CALDESC:Events from Dignity Alliance
REFRESH-INTERVAL;VALUE=DURATION:PT1440M
X-PUBLISHED-TTL:PT1440M
BEGIN:VTIMEZONE
TZID:America/New_York
BEGIN:STANDARD
DTSTART:20231105T020000Z
TZOFFSETFROM:-0400
TZOFFSETTO:-0500
END:STANDARD
BEGIN:DAYLIGHT
DTSTART:20240310T020000Z
TZOFFSETFROM:-0500
TZOFFSETTO:-0400
END:DAYLIGHT
END:VTIMEZONE
BEGIN:VTIMEZONE
TZID:UTC
BEGIN:STANDARD
DTSTART:20250725T090104Z
TZOFFSETFROM:+0000
TZOFFSETTO:+0000
END:STANDARD
END:VTIMEZONE
BEGIN:VEVENT
UID:172-155
DTSTAMP:20260421T090104Z
SUMMARY:Evaluations of MLTSS and Integrated Care \"Dual Demo\" Programs: Ke
 y Findings and Implications for Federal and State Policy
LOCATION:
ORGANIZER;CN=admin:MAILTO:admin@dignityalliancema.org
DTSTART;TZID=America/New_York:20240228T130000
DTEND;TZID=America/New_York:20240228T140000
X-ALT-DESC;FMTTYPE=TEXT/HTML:The Long Term Care Discussion Group Wednesday\
 , February 28\, 2024\, 1:00 to 2:00 p.m. ABOUT THE TOPIC: About half of al
 l states now contract with Medicaid managed care plans to deliver long-ter
 m services and supports – managed LTSS or MLTSS programs -- a sizable in
 crease over the last two decades. Ten states\, some of which&amp;hellip\;
CATEGORIES:General
URL;VALUE=URI:https://dignityalliancema.org/mc-events/evaluations-of-mltss-
 and-integrated-care-dual-demo-programs-key-findings-and-implications-for-f
 ederal-and-state-policy/
METHOD:PUBLISH
END:VEVENT
END:VCALENDAR