BEGIN:VCALENDAR
VERSION:2.0
PRODID:spatie/icalendar-generator
DESCRIPTION:Events from Dignity Alliance
X-WR-CALDESC:Events from Dignity Alliance
REFRESH-INTERVAL;VALUE=DURATION:PT1440M
X-PUBLISHED-TTL:PT1440M
BEGIN:VTIMEZONE
TZID:America/New_York
BEGIN:DAYLIGHT
DTSTART:20250309T020000Z
TZOFFSETFROM:-0500
TZOFFSETTO:-0400
END:DAYLIGHT
BEGIN:STANDARD
DTSTART:20251102T020000Z
TZOFFSETFROM:-0400
TZOFFSETTO:-0500
END:STANDARD
END:VTIMEZONE
BEGIN:VTIMEZONE
TZID:UTC
BEGIN:STANDARD
DTSTART:20250725T085033Z
TZOFFSETFROM:+0000
TZOFFSETTO:+0000
END:STANDARD
END:VTIMEZONE
BEGIN:VEVENT
UID:475-448
DTSTAMP:20260421T085033Z
SUMMARY:Dual Eligible Special Needs Plans (D-SNPs): What Advocates Need to 
 Know
LOCATION:
ORGANIZER;CN=admin:MAILTO:admin@dignityalliancema.org
DTSTART;TZID=America/New_York:20250828T140000
DTEND;TZID=America/New_York:20250828T150000
X-ALT-DESC;FMTTYPE=TEXT/HTML:Justice in Aging Thursday\, August 28\, 2025\,
  2:00 to 3:00 p.m. Since 2020\, enrollment in Dual Eligible Special Needs 
 Plans (D-SNPs) has doubled. Today\, over five million individuals eligible
  for both Medicare and Medicaid are enrolled in these Medicare Advantage p
 lans\, and enrollment is expected to continue rising. An increasing number
  of states are focusing&amp;hellip\;
CATEGORIES:General
URL;VALUE=URI:https://dignityalliancema.org/mc-events/dual-eligible-special
 -needs-plans-d-snps-what-advocates-need-to-know-2/
METHOD:PUBLISH
END:VEVENT
END:VCALENDAR