BEGIN:VCALENDAR
VERSION:2.0
PRODID:spatie/icalendar-generator
DESCRIPTION:Events from Dignity Alliance
X-WR-CALDESC:Events from Dignity Alliance
REFRESH-INTERVAL;VALUE=DURATION:PT1440M
X-PUBLISHED-TTL:PT1440M
BEGIN:VTIMEZONE
TZID:America/New_York
BEGIN:STANDARD
DTSTART:20231105T020000Z
TZOFFSETFROM:-0400
TZOFFSETTO:-0500
END:STANDARD
BEGIN:DAYLIGHT
DTSTART:20240310T020000Z
TZOFFSETFROM:-0500
TZOFFSETTO:-0400
END:DAYLIGHT
END:VTIMEZONE
BEGIN:VTIMEZONE
TZID:UTC
BEGIN:STANDARD
DTSTART:20250725T085648Z
TZOFFSETFROM:+0000
TZOFFSETTO:+0000
END:STANDARD
END:VTIMEZONE
BEGIN:VEVENT
UID:167-150
DTSTAMP:20260421T085648Z
SUMMARY:Development Disabilities Forum
LOCATION:
ORGANIZER;CN=admin:MAILTO:admin@dignityalliancema.org
DTSTART;TZID=America/New_York:20240228T103000
DTEND;TZID=America/New_York:20240228T113000
X-ALT-DESC;FMTTYPE=TEXT/HTML:In Person Wednesday\, February 28\, 2024\, 10:
 30 a.m. Gardner Auditorium\, State House Housing and Livable Communities S
 ecretary Ed Augustus and Rep. Livingstone are the featured speakers at the
  Association of Developmental Disabilities Providers' legislative budget f
 orum. The event will discuss the \"devastating impact\" of the commonwealt
 h's housing crisis on the human services workforce\, highlight a&amp;hellip\;
CATEGORIES:General
URL;VALUE=URI:https://dignityalliancema.org/mc-events/development-disabilit
 ies-forum/
METHOD:PUBLISH
END:VEVENT
END:VCALENDAR