BEGIN:VCALENDAR
VERSION:2.0
PRODID:spatie/icalendar-generator
DESCRIPTION:Events from Dignity Alliance
X-WR-CALDESC:Events from Dignity Alliance
REFRESH-INTERVAL;VALUE=DURATION:PT1440M
X-PUBLISHED-TTL:PT1440M
BEGIN:VTIMEZONE
TZID:America/New_York
BEGIN:DAYLIGHT
DTSTART:20230312T020000Z
TZOFFSETFROM:-0500
TZOFFSETTO:-0400
END:DAYLIGHT
BEGIN:STANDARD
DTSTART:20231105T020000Z
TZOFFSETFROM:-0400
TZOFFSETTO:-0500
END:STANDARD
BEGIN:DAYLIGHT
DTSTART:20240310T020000Z
TZOFFSETFROM:-0500
TZOFFSETTO:-0400
END:DAYLIGHT
END:VTIMEZONE
BEGIN:VTIMEZONE
TZID:UTC
BEGIN:STANDARD
DTSTART:20250725T125823Z
TZOFFSETFROM:+0000
TZOFFSETTO:+0000
END:STANDARD
END:VTIMEZONE
BEGIN:VEVENT
UID:90-81
DTSTAMP:20260421T125823Z
SUMMARY:Anything is Possible! Examining Potential Career Paths for CNAs
LOCATION:
ORGANIZER;CN=admin:MAILTO:admin@dignityalliancema.org
DTSTART;TZID=America/New_York:20231101T140000
DTEND;TZID=America/New_York:20231101T150000
X-ALT-DESC;FMTTYPE=TEXT/HTML:The National Association of Health Care Assist
 ants Wednesday\, November\, 1\, 2023\, 2:00 p.m. Join on Nov. 1 for the ne
 xt NAHCA webinar\, \"Anything is Possible! Examining Potential Career Path
 s for CNAs\,\" as Sherry Perry\, CNA\, chair of the NAHCA Board of Directo
 rs\, and Cindy Frakes\, CEO of the National Institute of CNA Excellence (N
 ICE) examine&amp;hellip\;
CATEGORIES:General
URL;VALUE=URI:https://dignityalliancema.org/mc-events/anything-is-possible-
 examining-potential-career-paths-for-cnas/
METHOD:PUBLISH
END:VEVENT
END:VCALENDAR