BEGIN:VCALENDAR
VERSION:2.0
PRODID:spatie/icalendar-generator
DESCRIPTION:Events from Dignity Alliance
X-WR-CALDESC:Events from Dignity Alliance
REFRESH-INTERVAL;VALUE=DURATION:PT1440M
X-PUBLISHED-TTL:PT1440M
BEGIN:VTIMEZONE
TZID:America/New_York
BEGIN:DAYLIGHT
DTSTART:20250309T020000Z
TZOFFSETFROM:-0500
TZOFFSETTO:-0400
END:DAYLIGHT
BEGIN:STANDARD
DTSTART:20251102T020000Z
TZOFFSETFROM:-0400
TZOFFSETTO:-0500
END:STANDARD
BEGIN:DAYLIGHT
DTSTART:20260308T020000Z
TZOFFSETFROM:-0500
TZOFFSETTO:-0400
END:DAYLIGHT
END:VTIMEZONE
BEGIN:VTIMEZONE
TZID:UTC
BEGIN:STANDARD
DTSTART:20250727T134524Z
TZOFFSETFROM:+0000
TZOFFSETTO:+0000
END:STANDARD
END:VTIMEZONE
BEGIN:VEVENT
UID:480-453
DTSTAMP:20260423T134524Z
SUMMARY:ADA Overview: A Focus on Title I
LOCATION:
ORGANIZER;CN=admin:MAILTO:admin@dignityalliancema.org
DTSTART;TZID=America/New_York:20250909T130000
DTEND;TZID=America/New_York:20250909T141500
X-ALT-DESC;FMTTYPE=TEXT/HTML:Northeast ADA Center Tuesday\, September 9\, 2
 025\, 1:00 to 2:15 p.m. This free virtual session\, hosted by the Northeas
 t ADA Center\, will provide an overview of ADA Title I\, which covers empl
 oyment rights and responsibilities under the ADA. The 60-minute presentati
 on will be followed by 15 minutes of Q&amp;amp\;A\, and one hour of CRC credit
 &amp;hellip\;
CATEGORIES:General
URL;VALUE=URI:https://dignityalliancema.org/mc-events/ada-overview-a-focus-
 on-title-i/
METHOD:PUBLISH
END:VEVENT
END:VCALENDAR