BEGIN:VCALENDAR
VERSION:2.0
PRODID:spatie/icalendar-generator
DESCRIPTION:Events from Dignity Alliance
X-WR-CALDESC:Events from Dignity Alliance
REFRESH-INTERVAL;VALUE=DURATION:PT1440M
X-PUBLISHED-TTL:PT1440M
BEGIN:VTIMEZONE
TZID:America/New_York
BEGIN:DAYLIGHT
DTSTART:20250309T020000Z
TZOFFSETFROM:-0500
TZOFFSETTO:-0400
END:DAYLIGHT
BEGIN:STANDARD
DTSTART:20251102T020000Z
TZOFFSETFROM:-0400
TZOFFSETTO:-0500
END:STANDARD
BEGIN:DAYLIGHT
DTSTART:20260308T020000Z
TZOFFSETFROM:-0500
TZOFFSETTO:-0400
END:DAYLIGHT
END:VTIMEZONE
BEGIN:VTIMEZONE
TZID:UTC
BEGIN:STANDARD
DTSTART:20250727T165746Z
TZOFFSETFROM:+0000
TZOFFSETTO:+0000
END:STANDARD
END:VTIMEZONE
BEGIN:VEVENT
UID:482-455
DTSTAMP:20260423T165746Z
SUMMARY:A Journey Through Global Accessibility Laws
LOCATION:
ORGANIZER;CN=admin:MAILTO:admin@dignityalliancema.org
DTSTART;TZID=America/New_York:20250916T130000
DTEND;TZID=America/New_York:20250916T143000
X-ALT-DESC;FMTTYPE=TEXT/HTML:Mid-Atlantic ADA Center Tuesday\, September 16
 \, 2025\, 1:00 to 2:30 p.m. The Mid-Atlantic ADA Center is hosting a webin
 ar exploring how laws around the world promote accessibility in Informatio
 n and Communication Technology (ICT). Speakers will cover key laws in the 
 U.S.\, Canada\, and Europe\, including Section 508\, ADA Title II Web Acce
 ssibility\, the Accessible Canada&amp;hellip\;
CATEGORIES:General
URL;VALUE=URI:https://dignityalliancema.org/mc-events/a-journey-through-glo
 bal-accessibility-laws/
METHOD:PUBLISH
END:VEVENT
END:VCALENDAR